BEGIN:VCALENDAR
VERSION:2.0
PRODID:-//Drupal//DD Create//EN
METHOD:PUBLISH
BEGIN:VEVENT
UID:dd_create.2913.0
DTSTAMP:20260423T105515Z
DTSTART:20260427T070000Z
DTEND:20260428T000000Z
SUMMARY:Final Registration Deadline - CAPIO Annual Conference Registration
URL;VALUE=URI:https://www.capio.org/event/final-registration-deadline-capio-annual-conference-registration
END:VEVENT
END:VCALENDAR
