BEGIN:VCALENDAR
VERSION:2.0
PRODID:-//Drupal//DD Create//EN
METHOD:PUBLISH
BEGIN:VEVENT
UID:dd_create.2892.0
DTSTAMP:20260423T105352Z
DTSTART:20260721T160000Z
DTEND:20260722T223000Z
SUMMARY:2026 Emergency Communications Academy 
URL;VALUE=URI:https://www.capio.org/academy/2026-emergency-communications-academy
END:VEVENT
END:VCALENDAR
