BEGIN:VCALENDAR
VERSION:2.0
PRODID:-//Drupal//DD Create//EN
METHOD:PUBLISH
BEGIN:VEVENT
UID:dd_create.2779.0
DTSTAMP:20260422T123259Z
DTSTART:20260511T180000Z
DTEND:20260514T190000Z
SUMMARY:2026 CAPIO Annual Conference - San Diego
URL;VALUE=URI:https://www.capio.org/event/2026-capio-annual-conference-san-diego
END:VEVENT
END:VCALENDAR
